BEGIN:VCALENDAR
VERSION:2.0
PRODID:spatie/icalendar-generator
DESCRIPTION:Events from Manchester Animal Shelter
X-WR-CALDESC:Events from Manchester Animal Shelter
REFRESH-INTERVAL;VALUE=DURATION:PT1440M
X-PUBLISHED-TTL:PT1440M
BEGIN:VTIMEZONE
TZID:America/New_York
BEGIN:STANDARD
DTSTART:20241103T020000Z
TZOFFSETFROM:-0400
TZOFFSETTO:-0500
END:STANDARD
BEGIN:DAYLIGHT
DTSTART:20250309T020000Z
TZOFFSETFROM:-0500
TZOFFSETTO:-0400
END:DAYLIGHT
BEGIN:STANDARD
DTSTART:20251102T020000Z
TZOFFSETFROM:-0400
TZOFFSETTO:-0500
END:STANDARD
END:VTIMEZONE
BEGIN:VTIMEZONE
TZID:UTC
BEGIN:STANDARD
DTSTART:20250727T085917Z
TZOFFSETFROM:+0000
TZOFFSETTO:+0000
END:STANDARD
END:VTIMEZONE
BEGIN:VEVENT
UID:34-29
DTSTAMP:20260423T085917Z
SUMMARY:Mutt Strutt 2025
LOCATION:Livingston Park 156 Hooksett Road  Manchester New Hampshire 03104
ORGANIZER;CN=Hannah Hurley:MAILTO:office@fmasnh.org
DTSTART;TZID=America/New_York:20250531T100000
DTEND;TZID=America/New_York:20250531T140000
X-ALT-DESC;FMTTYPE=TEXT/HTML:<p>Hosted by the Friends of the Manchester Ani
 mal Shelter at Livingston Park in Manchester\, NH</p>\n
CATEGORIES:Fundraisers
URL;VALUE=URI:https://www.manchesteranimalshelter.org/mc-events/mutt-strutt
 -2025/
METHOD:PUBLISH
END:VEVENT
END:VCALENDAR